BEGIN:VCALENDAR
VERSION:2.0
PRODID:-//Gymnasium Lindlar - ECPv6.13.2.1//NONSGML v1.0//EN
CALSCALE:GREGORIAN
METHOD:PUBLISH
X-ORIGINAL-URL:https://gymnasium-lindlar.de
X-WR-CALDESC:Veranstaltungen für Gymnasium Lindlar
REFRESH-INTERVAL;VALUE=DURATION:PT1H
X-Robots-Tag:noindex
X-PUBLISHED-TTL:PT1H
BEGIN:VTIMEZONE
TZID:Europe/Berlin
BEGIN:DAYLIGHT
TZOFFSETFROM:+0100
TZOFFSETTO:+0200
TZNAME:CEST
DTSTART:20270328T010000
END:DAYLIGHT
BEGIN:STANDARD
TZOFFSETFROM:+0200
TZOFFSETTO:+0100
TZNAME:CET
DTSTART:20271031T010000
END:STANDARD
END:VTIMEZONE
BEGIN:VEVENT
DTSTART;TZID=Europe/Berlin:20270205T000000
DTEND;TZID=Europe/Berlin:20270205T235900
DTSTAMP:20260419T203708
CREATED:20260302T110039Z
LAST-MODIFIED:20260320T053040Z
UID:33542-1801785600-1801871940@gymnasium-lindlar.de
SUMMARY:Karnevalsfreitag\, beweglicher Ferientag
DESCRIPTION:
URL:https://gymnasium-lindlar.de/event/karnevalsfreitag-beweglicher-ferientag-4/
CATEGORIES:Eltern
END:VEVENT
BEGIN:VEVENT
DTSTART;TZID=Europe/Berlin:20270208T000000
DTEND;TZID=Europe/Berlin:20270208T235900
DTSTAMP:20260419T203708
CREATED:20260302T110039Z
LAST-MODIFIED:20260320T053040Z
UID:33543-1802044800-1802131140@gymnasium-lindlar.de
SUMMARY:Rosenmontag\, beweglicher Ferientag
DESCRIPTION:
URL:https://gymnasium-lindlar.de/event/rosenmontag-beweglicher-ferientag-4/
CATEGORIES:Eltern
END:VEVENT
BEGIN:VEVENT
DTSTART;TZID=Europe/Berlin:20270209T000000
DTEND;TZID=Europe/Berlin:20270209T235900
DTSTAMP:20260419T203708
CREATED:20260302T110039Z
LAST-MODIFIED:20260320T053040Z
UID:33544-1802131200-1802217540@gymnasium-lindlar.de
SUMMARY:Ausgleichstag für den "Tag der offenen Tür"
DESCRIPTION:
URL:https://gymnasium-lindlar.de/event/ausgleichstag-fuer-den-tag-der-offenen-tuer-3/
CATEGORIES:Eltern
END:VEVENT
END:VCALENDAR