BEGIN:VCALENDAR
VERSION:2.0
PRODID:-//Gymnasium Lindlar - ECPv6.13.2.1//NONSGML v1.0//EN
CALSCALE:GREGORIAN
METHOD:PUBLISH
X-ORIGINAL-URL:https://gymnasium-lindlar.de
X-WR-CALDESC:Veranstaltungen für Gymnasium Lindlar
REFRESH-INTERVAL;VALUE=DURATION:PT1H
X-Robots-Tag:noindex
X-PUBLISHED-TTL:PT1H
BEGIN:VTIMEZONE
TZID:Europe/Berlin
BEGIN:DAYLIGHT
TZOFFSETFROM:+0100
TZOFFSETTO:+0200
TZNAME:CEST
DTSTART:20240331T010000
END:DAYLIGHT
BEGIN:STANDARD
TZOFFSETFROM:+0200
TZOFFSETTO:+0100
TZNAME:CET
DTSTART:20241027T010000
END:STANDARD
BEGIN:DAYLIGHT
TZOFFSETFROM:+0100
TZOFFSETTO:+0200
TZNAME:CEST
DTSTART:20250330T010000
END:DAYLIGHT
BEGIN:STANDARD
TZOFFSETFROM:+0200
TZOFFSETTO:+0100
TZNAME:CET
DTSTART:20251026T010000
END:STANDARD
END:VTIMEZONE
BEGIN:VEVENT
DTSTART;VALUE=DATE:20241223
DTEND;VALUE=DATE:20250107
DTSTAMP:20260420T100136
CREATED:20240429T084658Z
LAST-MODIFIED:20250613T120206Z
UID:22176-1734912000-1736207999@gymnasium-lindlar.de
SUMMARY:Weihnachtsferien 2024/2025
DESCRIPTION:
URL:https://gymnasium-lindlar.de/event/weihnachtsferien-2024-2025/
CATEGORIES:Eltern
END:VEVENT
BEGIN:VEVENT
DTSTART;VALUE=DATE:20250107
DTEND;VALUE=DATE:20250111
DTSTAMP:20260420T100136
CREATED:20250110T091655Z
LAST-MODIFIED:20250613T120207Z
UID:26129-1736208000-1736553599@gymnasium-lindlar.de
SUMMARY:QA: Schulbesuchswoche
DESCRIPTION:Rückmeldung am Fr. 10.01.25
URL:https://gymnasium-lindlar.de/event/qa-schulbesuchswoche/
CATEGORIES:Eltern
END:VEVENT
BEGIN:VEVENT
DTSTART;VALUE=DATE:20250109
DTEND;VALUE=DATE:20250110
DTSTAMP:20260420T100136
CREATED:20250110T091655Z
LAST-MODIFIED:20250613T120207Z
UID:26130-1736380800-1736467199@gymnasium-lindlar.de
SUMMARY:Stufe 10: Kommunikationsprüfungen Englisch
DESCRIPTION:
URL:https://gymnasium-lindlar.de/event/stufe-10-kommunikationspruefungen-englisch/
CATEGORIES:Eltern
END:VEVENT
BEGIN:VEVENT
DTSTART;TZID=Europe/Berlin:20250109T190000
DTEND;TZID=Europe/Berlin:20250109T210000
DTSTAMP:20260420T100136
CREATED:20250110T091655Z
LAST-MODIFIED:20250613T120207Z
UID:26131-1736449200-1736456400@gymnasium-lindlar.de
SUMMARY:Stufen 5 - 8: Elternabend Cyberkriminalität
DESCRIPTION:Veranstalter Polizei\,  abgesagt wg. aktueller Wetterlage\, verschoben auf Do. 06.02.25
URL:https://gymnasium-lindlar.de/event/stufen-5-8-elternabend-cyberkriminalitaet/
LOCATION:Forum/R
CATEGORIES:Eltern
END:VEVENT
BEGIN:VEVENT
DTSTART;TZID=Europe/Berlin:20250110T130000
DTEND;TZID=Europe/Berlin:20250110T150000
DTSTAMP:20260420T100136
CREATED:20250110T091655Z
LAST-MODIFIED:20250613T120208Z
UID:26132-1736514000-1736521200@gymnasium-lindlar.de
SUMMARY:Lehrerkonferenz
DESCRIPTION:Nach der 5. Stunde unterrichtsfrei für alle Stufen.
URL:https://gymnasium-lindlar.de/event/lehrerkonferenz-4/
LOCATION:Forum/R
CATEGORIES:Eltern
END:VEVENT
BEGIN:VEVENT
DTSTART;TZID=Europe/Berlin:20250113T134500
DTEND;TZID=Europe/Berlin:20250113T150000
DTSTAMP:20260420T100136
CREATED:20230511T074653Z
LAST-MODIFIED:20250613T120208Z
UID:9548-1736775900-1736780400@gymnasium-lindlar.de
SUMMARY:Stufe Q2: Zeugniskonferenz
DESCRIPTION:n.d. 7.Std. unterrichtsfrei
URL:https://gymnasium-lindlar.de/event/stufe-q2-zeugniskonferenz/
CATEGORIES:Eltern
END:VEVENT
BEGIN:VEVENT
DTSTART;VALUE=DATE:20250124
DTEND;VALUE=DATE:20250125
DTSTAMP:20260420T100136
CREATED:20250110T091656Z
LAST-MODIFIED:20250613T120208Z
UID:26133-1737676800-1737763199@gymnasium-lindlar.de
SUMMARY:Stufen 5 und 6: Bundesjugendspiele
DESCRIPTION:
URL:https://gymnasium-lindlar.de/event/stufen-5-und-6-bundesjugendspiele-2/
CATEGORIES:Eltern
END:VEVENT
END:VCALENDAR