BEGIN:VCALENDAR
VERSION:2.0
PRODID:-//Gymnasium Lindlar - ECPv6.13.2.1//NONSGML v1.0//EN
CALSCALE:GREGORIAN
METHOD:PUBLISH
X-WR-CALNAME:Gymnasium Lindlar
X-ORIGINAL-URL:https://gymnasium-lindlar.de
X-WR-CALDESC:Veranstaltungen für Gymnasium Lindlar
REFRESH-INTERVAL;VALUE=DURATION:PT1H
X-Robots-Tag:noindex
X-PUBLISHED-TTL:PT1H
BEGIN:VTIMEZONE
TZID:Europe/Berlin
BEGIN:DAYLIGHT
TZOFFSETFROM:+0100
TZOFFSETTO:+0200
TZNAME:CEST
DTSTART:20260329T010000
END:DAYLIGHT
BEGIN:STANDARD
TZOFFSETFROM:+0200
TZOFFSETTO:+0100
TZNAME:CET
DTSTART:20261025T010000
END:STANDARD
END:VTIMEZONE
BEGIN:VEVENT
DTSTART;TZID=Europe/Berlin:20260518T140000
DTEND;TZID=Europe/Berlin:20260518T180000
DTSTAMP:20260420T233222
CREATED:20250826T075929Z
LAST-MODIFIED:20251009T100040Z
UID:29029-1779112800-1779127200@gymnasium-lindlar.de
SUMMARY:Elternsprechtag
DESCRIPTION:
URL:https://gymnasium-lindlar.de/event/elternsprechtag-6/
CATEGORIES:Eltern
END:VEVENT
BEGIN:VEVENT
DTSTART;TZID=Europe/Berlin:20260518T140000
DTEND;TZID=Europe/Berlin:20260518T180000
DTSTAMP:20260420T233222
CREATED:20251009T110040Z
LAST-MODIFIED:20260320T053037Z
UID:30176-1779112800-1779127200@gymnasium-lindlar.de
SUMMARY:Elternsprechtag
DESCRIPTION:nach der 5. Std. für alle Stufen unterrichtsfrei
URL:https://gymnasium-lindlar.de/event/elternsprechtag-7/
LOCATION:u.a. Forum
CATEGORIES:Eltern
END:VEVENT
BEGIN:VEVENT
DTSTART;TZID=Europe/Berlin:20260519T000000
DTEND;TZID=Europe/Berlin:20260519T235900
DTSTAMP:20260420T233222
CREATED:20250917T133040Z
LAST-MODIFIED:20260320T053037Z
UID:29611-1779148800-1779235140@gymnasium-lindlar.de
SUMMARY:Stufe 10: ZAP Englisch
DESCRIPTION:
URL:https://gymnasium-lindlar.de/event/stufe-10-zap-englisch/
CATEGORIES:Eltern
END:VEVENT
BEGIN:VEVENT
DTSTART;TZID=Europe/Berlin:20260522T092500
DTEND;TZID=Europe/Berlin:20260522T101000
DTSTAMP:20260420T233222
CREATED:20250826T075930Z
LAST-MODIFIED:20260320T053037Z
UID:29030-1779441900-1779444600@gymnasium-lindlar.de
SUMMARY:Stufen 5/6: Ökumenischer Schulgottesdienst
DESCRIPTION:
URL:https://gymnasium-lindlar.de/event/stufen-5-6-oekumenischer-schulgottesdienst-4/
LOCATION:St. Severin Lindlar
CATEGORIES:Eltern
END:VEVENT
BEGIN:VEVENT
DTSTART;TZID=Europe/Berlin:20260525T000000
DTEND;TZID=Europe/Berlin:20260526T235900
DTSTAMP:20260420T233222
CREATED:20250526T091715Z
LAST-MODIFIED:20260320T053037Z
UID:28496-1779667200-1779839940@gymnasium-lindlar.de
SUMMARY:Pfingstferien
DESCRIPTION:
URL:https://gymnasium-lindlar.de/event/pfingstferien-4/
CATEGORIES:Eltern
END:VEVENT
BEGIN:VEVENT
DTSTART;TZID=Europe/Berlin:20260528T000000
DTEND;TZID=Europe/Berlin:20260528T235900
DTSTAMP:20260420T233222
CREATED:20250917T133040Z
LAST-MODIFIED:20260320T053037Z
UID:29612-1779926400-1780012740@gymnasium-lindlar.de
SUMMARY:Stufe 10: ZAP Mathematik
DESCRIPTION:
URL:https://gymnasium-lindlar.de/event/stufe-10-zap-mathematik/
CATEGORIES:Eltern
END:VEVENT
BEGIN:VEVENT
DTSTART;TZID=Europe/Berlin:20260529T000000
DTEND;TZID=Europe/Berlin:20260529T235900
DTSTAMP:20260420T233222
CREATED:20251113T091541Z
LAST-MODIFIED:20260320T053037Z
UID:30785-1780012800-1780099140@gymnasium-lindlar.de
SUMMARY:Stufe EF: Zentralklausur Deutsch
DESCRIPTION:
URL:https://gymnasium-lindlar.de/event/stufe-ef-zentralklausur-deutsch/
CATEGORIES:Eltern
END:VEVENT
BEGIN:VEVENT
DTSTART;TZID=Europe/Berlin:20260602T000000
DTEND;TZID=Europe/Berlin:20260602T235900
DTSTAMP:20260420T233222
CREATED:20250917T133040Z
LAST-MODIFIED:20260320T053037Z
UID:29613-1780358400-1780444740@gymnasium-lindlar.de
SUMMARY:Stufe 10: Nachschreibtermin ZAP Deutsch
DESCRIPTION:
URL:https://gymnasium-lindlar.de/event/stufe-10-nachschreibtermin-zap-deutsch/
CATEGORIES:Eltern
END:VEVENT
BEGIN:VEVENT
DTSTART;TZID=Europe/Berlin:20260603T000000
DTEND;TZID=Europe/Berlin:20260603T235900
DTSTAMP:20260420T233222
CREATED:20250917T133041Z
LAST-MODIFIED:20260320T053037Z
UID:29614-1780444800-1780531140@gymnasium-lindlar.de
SUMMARY:Stufe 10: Nachschreibtermin ZAP Englisch
DESCRIPTION:
URL:https://gymnasium-lindlar.de/event/stufe-10-nachschreibtermin-zap-englisch/
CATEGORIES:Eltern
END:VEVENT
BEGIN:VEVENT
DTSTART;TZID=Europe/Berlin:20260603T000000
DTEND;TZID=Europe/Berlin:20260603T235900
DTSTAMP:20260420T233222
CREATED:20251113T091542Z
LAST-MODIFIED:20260320T053037Z
UID:30786-1780444800-1780531140@gymnasium-lindlar.de
SUMMARY:Stufe EF: Zentralklausur Mathematik
DESCRIPTION:
URL:https://gymnasium-lindlar.de/event/stufe-ef-zentralklausur-mathematik/
CATEGORIES:Eltern
END:VEVENT
BEGIN:VEVENT
DTSTART;TZID=Europe/Berlin:20260604T000000
DTEND;TZID=Europe/Berlin:20260604T235900
DTSTAMP:20260420T233222
CREATED:20250331T094605Z
LAST-MODIFIED:20260320T053038Z
UID:27136-1780531200-1780617540@gymnasium-lindlar.de
SUMMARY:Fronleichnam
DESCRIPTION:
URL:https://gymnasium-lindlar.de/event/fronleichnam/
CATEGORIES:Eltern
END:VEVENT
BEGIN:VEVENT
DTSTART;TZID=Europe/Berlin:20260609T000000
DTEND;TZID=Europe/Berlin:20260609T235900
DTSTAMP:20260420T233222
CREATED:20250917T133041Z
LAST-MODIFIED:20260320T053038Z
UID:29615-1780963200-1781049540@gymnasium-lindlar.de
SUMMARY:Stufe 10: Nachschreibtermin ZAP Mathematik
DESCRIPTION:
URL:https://gymnasium-lindlar.de/event/stufe-10-nachschreibtermin-zap-mathematik/
CATEGORIES:Eltern
END:VEVENT
BEGIN:VEVENT
DTSTART;TZID=Europe/Berlin:20260615T190000
DTEND;TZID=Europe/Berlin:20260615T210000
DTSTAMP:20260420T233222
CREATED:20260302T130039Z
LAST-MODIFIED:20260320T053038Z
UID:33560-1781550000-1781557200@gymnasium-lindlar.de
SUMMARY:4. Schulpflegschaftssitzung
DESCRIPTION:
URL:https://gymnasium-lindlar.de/event/4-schulpflegschaftssitzung/
LOCATION:A 106
CATEGORIES:Eltern
END:VEVENT
BEGIN:VEVENT
DTSTART;TZID=Europe/Berlin:20260616T000000
DTEND;TZID=Europe/Berlin:20260616T235900
DTSTAMP:20260420T233222
CREATED:20250917T133041Z
LAST-MODIFIED:20260320T053038Z
UID:29616-1781568000-1781654340@gymnasium-lindlar.de
SUMMARY:Stufe 10: Notenbekanntgabe ZAP
DESCRIPTION:
URL:https://gymnasium-lindlar.de/event/stufe-10-notenbekanntgabe-zap/
CATEGORIES:Eltern
END:VEVENT
BEGIN:VEVENT
DTSTART;TZID=Europe/Berlin:20260617T190000
DTEND;TZID=Europe/Berlin:20260617T213000
DTSTAMP:20260420T233222
CREATED:20250917T133041Z
LAST-MODIFIED:20260320T053038Z
UID:29617-1781722800-1781731800@gymnasium-lindlar.de
SUMMARY:Stufe Q1: Aufführung Literaturkurs
DESCRIPTION:
URL:https://gymnasium-lindlar.de/event/stufe-q1-auffuehrung-literaturkurs/
LOCATION:Kulturzentrum Lindlar/R
CATEGORIES:Eltern
END:VEVENT
BEGIN:VEVENT
DTSTART;TZID=Europe/Berlin:20260619T000000
DTEND;TZID=Europe/Berlin:20260619T235900
DTSTAMP:20260420T233222
CREATED:20250924T130042Z
LAST-MODIFIED:20260320T053038Z
UID:29810-1781827200-1781913540@gymnasium-lindlar.de
SUMMARY:Sportfest
DESCRIPTION:
URL:https://gymnasium-lindlar.de/event/sportfest-3/
CATEGORIES:Eltern
END:VEVENT
BEGIN:VEVENT
DTSTART;TZID=Europe/Berlin:20260619T190000
DTEND;TZID=Europe/Berlin:20260619T213000
DTSTAMP:20260420T233222
CREATED:20250917T133041Z
LAST-MODIFIED:20260320T053038Z
UID:29618-1781895600-1781904600@gymnasium-lindlar.de
SUMMARY:Stufe Q1: Aufführung Literaturkurs
DESCRIPTION:
URL:https://gymnasium-lindlar.de/event/stufe-q1-auffuehrung-literaturkurs-2/
LOCATION:Kulturzentrum Lindlar/R
CATEGORIES:Eltern
END:VEVENT
BEGIN:VEVENT
DTSTART;TZID=Europe/Berlin:20260623T183000
DTEND;TZID=Europe/Berlin:20260623T200000
DTSTAMP:20260420T233222
CREATED:20260302T130039Z
LAST-MODIFIED:20260320T053038Z
UID:33561-1782239400-1782244800@gymnasium-lindlar.de
SUMMARY:4. Schulkonferenz
DESCRIPTION:
URL:https://gymnasium-lindlar.de/event/4-schulkonferenz/
LOCATION:A 106
CATEGORIES:Eltern
END:VEVENT
BEGIN:VEVENT
DTSTART;TZID=Europe/Berlin:20260624T000000
DTEND;TZID=Europe/Berlin:20260624T235900
DTSTAMP:20260420T233222
CREATED:20250922T071554Z
LAST-MODIFIED:20260320T053038Z
UID:29752-1782259200-1782345540@gymnasium-lindlar.de
SUMMARY:Stufe 10: Mündliche Prüfungen ZAP
DESCRIPTION:
URL:https://gymnasium-lindlar.de/event/stufe-10-muendliche-pruefungen-zap/
CATEGORIES:Eltern
END:VEVENT
BEGIN:VEVENT
DTSTART;TZID=Europe/Berlin:20260624T163000
DTEND;TZID=Europe/Berlin:20260624T180000
DTSTAMP:20260420T233222
CREATED:20251114T124542Z
LAST-MODIFIED:20260320T053038Z
UID:30838-1782318600-1782324000@gymnasium-lindlar.de
SUMMARY:Kennenlerntag neue Stufe 5
DESCRIPTION:mit Elterninformationen
URL:https://gymnasium-lindlar.de/event/kennenlerntag-neue-stufe-5-2/
LOCATION:Forum
CATEGORIES:Eltern
END:VEVENT
BEGIN:VEVENT
DTSTART;TZID=Europe/Berlin:20260701T000000
DTEND;TZID=Europe/Berlin:20260703T235900
DTSTAMP:20260420T233222
CREATED:20250110T091706Z
LAST-MODIFIED:20260320T053038Z
UID:26199-1782864000-1783123140@gymnasium-lindlar.de
SUMMARY:Probenfahrt
DESCRIPTION:
URL:https://gymnasium-lindlar.de/event/probenfahrt-3/
LOCATION:Haus Altenberg\, Odenthal
CATEGORIES:Eltern
END:VEVENT
BEGIN:VEVENT
DTSTART;TZID=Europe/Berlin:20260706T000000
DTEND;TZID=Europe/Berlin:20260717T235900
DTSTAMP:20260420T233222
CREATED:20250826T075930Z
LAST-MODIFIED:20260320T053039Z
UID:29031-1783296000-1784332740@gymnasium-lindlar.de
SUMMARY:Betriebspraktikum EF
DESCRIPTION:
URL:https://gymnasium-lindlar.de/event/betriebspraktikum-ef/
CATEGORIES:Eltern
END:VEVENT
BEGIN:VEVENT
DTSTART;TZID=Europe/Berlin:20260710T080000
DTEND;TZID=Europe/Berlin:20260710T180000
DTSTAMP:20260420T233222
CREATED:20250917T133042Z
LAST-MODIFIED:20260320T053039Z
UID:29619-1783670400-1783706400@gymnasium-lindlar.de
SUMMARY:Kölner Zoolauf
DESCRIPTION:
URL:https://gymnasium-lindlar.de/event/koelner-zoolauf-2/
LOCATION:Köln
CATEGORIES:Eltern
END:VEVENT
BEGIN:VEVENT
DTSTART;TZID=Europe/Berlin:20260710T092500
DTEND;TZID=Europe/Berlin:20260710T101000
DTSTAMP:20260420T233222
CREATED:20250826T075930Z
LAST-MODIFIED:20260320T053039Z
UID:29032-1783675500-1783678200@gymnasium-lindlar.de
SUMMARY:Stufen 5/6: Ökumenischer Schulgottesdienst
DESCRIPTION:
URL:https://gymnasium-lindlar.de/event/stufen-5-6-oekumenischer-schulgottesdienst-5/
LOCATION:Jubilate Kirche
CATEGORIES:Eltern
END:VEVENT
BEGIN:VEVENT
DTSTART;TZID=Europe/Berlin:20260713T000000
DTEND;TZID=Europe/Berlin:20260713T235900
DTSTAMP:20260420T233223
CREATED:20250917T111540Z
LAST-MODIFIED:20260320T053039Z
UID:29594-1783900800-1783987140@gymnasium-lindlar.de
SUMMARY:Zeugniskonferenzen (Stufen 5-Q1)
DESCRIPTION:unterrichtsfrei für alle Stufen\, Studientag
URL:https://gymnasium-lindlar.de/event/zeugniskonferenzen-stufen-5-q1-2/
CATEGORIES:Eltern
END:VEVENT
BEGIN:VEVENT
DTSTART;TZID=Europe/Berlin:20260713T180000
DTEND;TZID=Europe/Berlin:20260713T203000
DTSTAMP:20260420T233223
CREATED:20260227T113042Z
LAST-MODIFIED:20260302T100048Z
UID:33455-1783965600-1783974600@gymnasium-lindlar.de
SUMMARY:Verleihung Schülerpreis
DESCRIPTION:
URL:https://gymnasium-lindlar.de/event/verleihung-schuelerpreis-2/
LOCATION:Forum
CATEGORIES:Eltern
END:VEVENT
BEGIN:VEVENT
DTSTART;TZID=Europe/Berlin:20260713T180000
DTEND;TZID=Europe/Berlin:20260713T203000
DTSTAMP:20260420T233223
CREATED:20260227T113042Z
LAST-MODIFIED:20260320T053039Z
UID:33456-1783965600-1783974600@gymnasium-lindlar.de
SUMMARY:Schülerpreisverleihung
DESCRIPTION:
URL:https://gymnasium-lindlar.de/event/schuelerpreisverleihung-2/
LOCATION:Forum
CATEGORIES:Eltern
END:VEVENT
BEGIN:VEVENT
DTSTART;TZID=Europe/Berlin:20260716T183000
DTEND;TZID=Europe/Berlin:20260716T210000
DTSTAMP:20260420T233223
CREATED:20250922T051543Z
LAST-MODIFIED:20260320T053039Z
UID:29747-1784226600-1784235600@gymnasium-lindlar.de
SUMMARY:Sommerkonzert
DESCRIPTION:
URL:https://gymnasium-lindlar.de/event/sommerkonzert-2/
LOCATION:Kulturzentrum
CATEGORIES:Eltern
END:VEVENT
BEGIN:VEVENT
DTSTART;TZID=Europe/Berlin:20260717T000000
DTEND;TZID=Europe/Berlin:20260717T235900
DTSTAMP:20260420T233223
CREATED:20251113T091543Z
LAST-MODIFIED:20260320T053039Z
UID:30787-1784246400-1784332740@gymnasium-lindlar.de
SUMMARY:Stufen EF/Q1: Quartalsende
DESCRIPTION:
URL:https://gymnasium-lindlar.de/event/stufen-ef-q1-quartalsende-2/
CATEGORIES:Eltern
END:VEVENT
BEGIN:VEVENT
DTSTART;TZID=Europe/Berlin:20260717T101000
DTEND;TZID=Europe/Berlin:20260717T105500
DTSTAMP:20260420T233223
CREATED:20251113T091544Z
LAST-MODIFIED:20260320T053039Z
UID:30788-1784283000-1784285700@gymnasium-lindlar.de
SUMMARY:Zeugnisausgabe\, anschl. unterrichtsfrei
DESCRIPTION:
URL:https://gymnasium-lindlar.de/event/zeugnisausgabe-anschl-unterrichtsfrei-3/
CATEGORIES:Eltern
END:VEVENT
END:VCALENDAR