BEGIN:VCALENDAR
VERSION:2.0
PRODID:-//Gymnasium Lindlar - ECPv6.13.2.1//NONSGML v1.0//EN
CALSCALE:GREGORIAN
METHOD:PUBLISH
X-WR-CALNAME:Gymnasium Lindlar
X-ORIGINAL-URL:https://gymnasium-lindlar.de
X-WR-CALDESC:Veranstaltungen für Gymnasium Lindlar
REFRESH-INTERVAL;VALUE=DURATION:PT1H
X-Robots-Tag:noindex
X-PUBLISHED-TTL:PT1H
BEGIN:VTIMEZONE
TZID:Europe/Berlin
BEGIN:DAYLIGHT
TZOFFSETFROM:+0100
TZOFFSETTO:+0200
TZNAME:CEST
DTSTART:20250330T010000
END:DAYLIGHT
BEGIN:STANDARD
TZOFFSETFROM:+0200
TZOFFSETTO:+0100
TZNAME:CET
DTSTART:20251026T010000
END:STANDARD
END:VTIMEZONE
BEGIN:VEVENT
DTSTART;VALUE=DATE:20250616
DTEND;VALUE=DATE:20250619
DTSTAMP:20260419T153809
CREATED:20250110T091704Z
LAST-MODIFIED:20250613T120249Z
UID:26183-1750032000-1750291199@gymnasium-lindlar.de
SUMMARY:Probenfahrt
DESCRIPTION:
URL:https://gymnasium-lindlar.de/event/probenfahrt-2/
LOCATION:Haus Altenberg\, Odenthal
CATEGORIES:Eltern
END:VEVENT
BEGIN:VEVENT
DTSTART;TZID=Europe/Berlin:20250617T090000
DTEND;TZID=Europe/Berlin:20250617T120000
DTSTAMP:20260419T153810
CREATED:20250604T091620Z
LAST-MODIFIED:20250613T120249Z
UID:28750-1750150800-1750161600@gymnasium-lindlar.de
SUMMARY:Stufe 10: Nachschreibtermin ZP Mathematik
DESCRIPTION:
URL:https://gymnasium-lindlar.de/event/stufe-10-nachschreibtermin-zp-mathematik/
CATEGORIES:Eltern
END:VEVENT
BEGIN:VEVENT
DTSTART;TZID=Europe/Berlin:20250617T190000
DTEND;TZID=Europe/Berlin:20250617T203000
DTSTAMP:20260419T153810
CREATED:20250403T074741Z
LAST-MODIFIED:20250613T120250Z
UID:27228-1750186800-1750192200@gymnasium-lindlar.de
SUMMARY:Schulpflegschaft
DESCRIPTION:
URL:https://gymnasium-lindlar.de/event/schulpflegschaft-6/
LOCATION:A 106
CATEGORIES:Eltern
END:VEVENT
END:VCALENDAR