BEGIN:VCALENDAR
VERSION:2.0
PRODID:-//Gymnasium Lindlar - ECPv6.13.2.1//NONSGML v1.0//EN
CALSCALE:GREGORIAN
METHOD:PUBLISH
X-WR-CALNAME:Gymnasium Lindlar
X-ORIGINAL-URL:https://gymnasium-lindlar.de
X-WR-CALDESC:Veranstaltungen für Gymnasium Lindlar
REFRESH-INTERVAL;VALUE=DURATION:PT1H
X-Robots-Tag:noindex
X-PUBLISHED-TTL:PT1H
BEGIN:VTIMEZONE
TZID:Europe/Berlin
BEGIN:DAYLIGHT
TZOFFSETFROM:+0100
TZOFFSETTO:+0200
TZNAME:CEST
DTSTART:20250330T010000
END:DAYLIGHT
BEGIN:STANDARD
TZOFFSETFROM:+0200
TZOFFSETTO:+0100
TZNAME:CET
DTSTART:20251026T010000
END:STANDARD
END:VTIMEZONE
BEGIN:VEVENT
DTSTART;VALUE=DATE:20250613
DTEND;VALUE=DATE:20250614
DTSTAMP:20260419T153950
CREATED:20250110T091703Z
LAST-MODIFIED:20250613T120248Z
UID:26181-1749772800-1749859199@gymnasium-lindlar.de
SUMMARY:Sportfest
DESCRIPTION:
URL:https://gymnasium-lindlar.de/event/sportfest-2/
CATEGORIES:Eltern
END:VEVENT
BEGIN:VEVENT
DTSTART;TZID=Europe/Berlin:20250613T080000
DTEND;TZID=Europe/Berlin:20250613T120000
DTSTAMP:20260419T153950
CREATED:20250326T130114Z
LAST-MODIFIED:20250613T120248Z
UID:26992-1749801600-1749816000@gymnasium-lindlar.de
SUMMARY:Stufe Q2: Notenbekanntgabe
DESCRIPTION:
URL:https://gymnasium-lindlar.de/event/stufe-q2-notenbekanntgabe/
CATEGORIES:Eltern
END:VEVENT
BEGIN:VEVENT
DTSTART;TZID=Europe/Berlin:20250613T090000
DTEND;TZID=Europe/Berlin:20250613T120000
DTSTAMP:20260419T153950
CREATED:20250604T091619Z
LAST-MODIFIED:20250613T120248Z
UID:28749-1749805200-1749816000@gymnasium-lindlar.de
SUMMARY:Stufe 10: Nachschreibtermin ZP Englisch
DESCRIPTION:
URL:https://gymnasium-lindlar.de/event/stufe-10-nachschreibtermin-zp-englisch/
CATEGORIES:Eltern
END:VEVENT
BEGIN:VEVENT
DTSTART;TZID=Europe/Berlin:20250613T130000
DTEND;TZID=Europe/Berlin:20250613T180000
DTSTAMP:20260419T153950
CREATED:20250326T130114Z
LAST-MODIFIED:20250613T120249Z
UID:26993-1749819600-1749837600@gymnasium-lindlar.de
SUMMARY:Stufe Q2: Einzelberatung
DESCRIPTION:
URL:https://gymnasium-lindlar.de/event/stufe-q2-einzelberatung/
CATEGORIES:Eltern
END:VEVENT
END:VCALENDAR