BEGIN:VCALENDAR
VERSION:2.0
PRODID:-//Gymnasium Lindlar - ECPv6.13.2.1//NONSGML v1.0//EN
CALSCALE:GREGORIAN
METHOD:PUBLISH
X-WR-CALNAME:Gymnasium Lindlar
X-ORIGINAL-URL:https://gymnasium-lindlar.de
X-WR-CALDESC:Veranstaltungen für Gymnasium Lindlar
REFRESH-INTERVAL;VALUE=DURATION:PT1H
X-Robots-Tag:noindex
X-PUBLISHED-TTL:PT1H
BEGIN:VTIMEZONE
TZID:Europe/Berlin
BEGIN:DAYLIGHT
TZOFFSETFROM:+0100
TZOFFSETTO:+0200
TZNAME:CEST
DTSTART:20250330T010000
END:DAYLIGHT
BEGIN:STANDARD
TZOFFSETFROM:+0200
TZOFFSETTO:+0100
TZNAME:CET
DTSTART:20251026T010000
END:STANDARD
END:VTIMEZONE
BEGIN:VEVENT
DTSTART;VALUE=DATE:20250107
DTEND;VALUE=DATE:20250111
DTSTAMP:20260420T112008
CREATED:20250110T091655Z
LAST-MODIFIED:20250613T120207Z
UID:26129-1736208000-1736553599@gymnasium-lindlar.de
SUMMARY:QA: Schulbesuchswoche
DESCRIPTION:Rückmeldung am Fr. 10.01.25
URL:https://gymnasium-lindlar.de/event/qa-schulbesuchswoche/
CATEGORIES:Eltern
END:VEVENT
BEGIN:VEVENT
DTSTART;TZID=Europe/Berlin:20250110T130000
DTEND;TZID=Europe/Berlin:20250110T150000
DTSTAMP:20260420T112008
CREATED:20250110T091655Z
LAST-MODIFIED:20250613T120208Z
UID:26132-1736514000-1736521200@gymnasium-lindlar.de
SUMMARY:Lehrerkonferenz
DESCRIPTION:Nach der 5. Stunde unterrichtsfrei für alle Stufen.
URL:https://gymnasium-lindlar.de/event/lehrerkonferenz-4/
LOCATION:Forum/R
CATEGORIES:Eltern
END:VEVENT
END:VCALENDAR